BEGIN:VCALENDAR
VERSION:2.0
PRODID:-//Back to Earth - ECPv6.1.3//NONSGML v1.0//EN
CALSCALE:GREGORIAN
METHOD:PUBLISH
X-ORIGINAL-URL:https://back2earth.ca
X-WR-CALDESC:Events for Back to Earth
REFRESH-INTERVAL;VALUE=DURATION:PT1H
X-Robots-Tag:noindex
X-PUBLISHED-TTL:PT1H
BEGIN:VTIMEZONE
TZID:America/Edmonton
BEGIN:DAYLIGHT
TZOFFSETFROM:-0700
TZOFFSETTO:-0600
TZNAME:MDT
DTSTART:20210314T090000
END:DAYLIGHT
BEGIN:STANDARD
TZOFFSETFROM:-0600
TZOFFSETTO:-0700
TZNAME:MST
DTSTART:20211107T080000
END:STANDARD
END:VTIMEZONE
BEGIN:VEVENT
DTSTART;VALUE=DATE:20211111
DTEND;VALUE=DATE:20211115
DTSTAMP:20260424T173511
CREATED:20200115T020015Z
LAST-MODIFIED:20211108T203516Z
UID:10000007-1636588800-1636934399@back2earth.ca
SUMMARY:Back to Earth Presents: Deep Roots\, Nov 11 - 14\,  2021
DESCRIPTION:SOLD OUT! \nTHIS IS A PRIVATE EVENT\, INVITE ONLY.  ABSOLUTELY NO DOOR REGISTRATIONS. \nPLEASE NOTE:  You are required to take a rapid Covid test prior to being allowed entry. (Vaccinated or not) They cost $20 so please bring cash. \n  \n\n\nWhat does deep roots or deeply rooted mean? It means to be firmly implanted; grounded\, and well-established.\n\n\nLet’s go deeper!  Get grounded… come back to Earth!\n\n\n\n\n\n\n\n\n\nBeing “grounded” means that you’re present in your body and connected with the Earth. When you’re grounded\, you allow yourself to feel centered and balanced no matter what’s going on around you. If you aren’t grounded\, you’re like a leaf in the wind: very vulnerable and thrown off balance very quickly.  Root yourself deep into our planet\, connect yourself deeply into the core of your being.\n\n\n\n\n\n  \n\n\n\n\n\nAn Intentional Adult Only gathering \nThe last time we came together we went Into the Cosmic Storm… now it is time for us to come Back to Earth and get grounded! \nGet ready for a blacklight earth themed getaway!\n\nDJ’s\, Dancing\, Food\, Friends\, .. Cabins and camping in the Forest\n\nRegular $100\nOne night $50\n\n$100 Heated / powered cabin bed\n\nhttps://back2earth.ca\n\nCamping free\, power available\nPotluck on Thursday\n$50 Brunch and supper Friday and Saturday\n\n($250 all in)\n\nBring your own bedding\, cutlery and plates\, water and snack.\nNo wifi\nNo dogs\nPlease respect the land\nFree Showers\n\nRegistration includes\n• a weekend pass\n• workshops\n• vendor access\n• a loving inclusive community \n  \nNo pets allowed.\nNo children are allowed at this event. \nVaccinations are strongly suggested. \n  \n 
URL:https://back2earth.ca/event/back-to-earth-presents-deep-roots/
LOCATION:Red Lodge Guest Ranch\, 34502 Range Road 22\, Red Deer County\, Alberta\, T0M0K0\, Canada
CATEGORIES:ADULT ONLY EVENT
ATTACH;FMTTYPE=image/jpeg:https://back2earth.ca/wp-content/uploads/2021/08/deep-roots-titles5-scaled.jpg
ORGANIZER;CN="Back%20to%20Earth":MAILTO:littletooker@hotmail.com
END:VEVENT
END:VCALENDAR