BEGIN:VCALENDAR
VERSION:2.0
PRODID:-//Back to Earth - ECPv6.1.3//NONSGML v1.0//EN
CALSCALE:GREGORIAN
METHOD:PUBLISH
X-ORIGINAL-URL:https://back2earth.ca
X-WR-CALDESC:Events for Back to Earth
REFRESH-INTERVAL;VALUE=DURATION:PT1H
X-Robots-Tag:noindex
X-PUBLISHED-TTL:PT1H
BEGIN:VTIMEZONE
TZID:America/Edmonton
BEGIN:DAYLIGHT
TZOFFSETFROM:-0700
TZOFFSETTO:-0600
TZNAME:MDT
DTSTART:20220313T090000
END:DAYLIGHT
BEGIN:STANDARD
TZOFFSETFROM:-0600
TZOFFSETTO:-0700
TZNAME:MST
DTSTART:20221106T080000
END:STANDARD
END:VTIMEZONE
BEGIN:VEVENT
DTSTART;TZID=America/Edmonton:20221118T140000
DTEND;TZID=America/Edmonton:20221120T140000
DTSTAMP:20260423T225806
CREATED:20220922T185241Z
LAST-MODIFIED:20221102T210958Z
UID:10000002-1668780000-1668952800@back2earth.ca
SUMMARY:Back to Earth Presents: Down The Rabbit Hole - Nov 18-20\, 2022
DESCRIPTION:*SOLD OUT* \n“The secret Alice is to surround yourself with people who make your heart smile. It’s then\, only then\, that you’ll find Wonderland” \nChase the rabbit … fall down the rabbit hole with us and end up in a dreamy Wonderland! But don’t be late!! It’s a very important date!  Nov 18-20\, 2022 \nGet to know all of the Underland anthropomorphic creatures… The hooka smoking caterpillar\, the Cheshire cat\, become Mad with your hats!  Bring a hat to decorate for a mad hatter workshop! There will be an epic mad hatter tea/dinner party in the main kitchen at the ranch Saturday night. Costumes mandatory!  Here’s some ideas: Tweedle dee and tweedle dum\, the queens card army personnel\, the mouse\, the rabbit\, the mad hatter\, the cat\, the caterpillar\, Alice\, Eat me or Drink me\, the white queen\, the queen of hearts.. etc. Homework time\, watch the movies\, there are several! \nTickets include the full event with workshops\, 2 meals on Saturday\, brunch and dinner\, warm cabin bed with power\, on site showers and flushing toilets.  Not very often you get that kind of package for this price!! \nFriday potluck\, bring your fave potluck meal to share. \nDon’t forget to bring your own bedding\, pillows\, etc. \nFurther details: \n18+ Adult Only event\nEarly bird tickets $225 until Sept 30.\nemt littletooker@hotmail.com\n$275 as of Oct 1\, 2022\nTicket includes cabin\, food\, and epic party experience. \nOne night tickets available:\n$50 One night ticket only (no food\, no cabin spot) ( arrive after 7pm\, leave by 11am)\n$25 One night meal only (Mad hatter tea party dinner Sat) – Please purchase seperately here: https://back2earth.ca/shop/\n$100 One night cabin only (Please specify what night you are coming) – Please purchase seperately here: https://back2earth.ca/shop/
URL:https://back2earth.ca/event/back-to-earth-presents-down-the-rabbit-hole-nov-18-20-2022/
LOCATION:Red Lodge Guest Ranch\, 34502 Range Road 22\, Red Deer County\, Alberta\, T0M0K0\, Canada
CATEGORIES:ADULT ONLY EVENT
ATTACH;FMTTYPE=image/jpeg:https://back2earth.ca/wp-content/uploads/2022/09/Screenshot_20220915_161413.jpg
ORGANIZER;CN="Back%20to%20Earth":MAILTO:littletooker@hotmail.com
END:VEVENT
END:VCALENDAR